BEGIN:VCALENDAR
VERSION:2.0
PRODID:-//ChamberMaster//Event Calendar 2.0//EN
METHOD:PUBLISH
X-PUBLISHED-TTL:P3D
REFRESH-INTERVAL:P3D
CALSCALE:GREGORIAN
BEGIN:VEVENT
DTSTART:20120623T220000Z
DTEND:20120624T020000Z
X-MICROSOFT-CDO-ALLDAYEVENT:FALSE
SUMMARY:Party for Pillars - Acquisitions of Fine Art
DESCRIPTION:Explore art and enjoy an amazing Silent Auction as Acquisitions of Fine Art opens their doors to our shared communities.  Enjoy wine\, champagne and hors d'oeuvres along with a chance to win a dinner for two at ZAK'S in Hinsdale\, a piece of fine art and more!!
X-ALT-DESC;FMTTYPE=text/html:<span style="font-size: 14px">Explore art and enjoy an amazing Silent Auction as Acquisitions of Fine Art opens their doors to our shared communities. &nbsp\;Enjoy wine\, champagne and hors d&#39\;oeuvres&nbsp\;along with a chance to win a dinner for two at ZAK&#39\;S in Hinsdale\, a piece of fine art and more!!</span>
LOCATION:Acquisitions of Fine Art- 10 E Hinsdale Avenue (Across from the Train Station) Hinsdale IL 60521
UID:e.318.2012
SEQUENCE:3
DTSTAMP:20260420T104753Z
URL:https://business.hinsdalechamber.com/events/details/party-for-pillars-acquisitions-of-fine-art-06-23-2012
END:VEVENT

END:VCALENDAR
